BEGIN:VCALENDAR
VERSION:2.0
PRODID:-//SmartBody SmartMind - ECPv5.12.3//NONSGML v1.0//EN
CALSCALE:GREGORIAN
METHOD:PUBLISH
X-WR-CALNAME:SmartBody SmartMind
X-ORIGINAL-URL:https://aiproject.smartbodysmartmind.com
X-WR-CALDESC:Events for SmartBody SmartMind
BEGIN:VTIMEZONE
TZID:America/Vancouver
BEGIN:DAYLIGHT
TZOFFSETFROM:-0800
TZOFFSETTO:-0700
TZNAME:PDT
DTSTART:20230312T100000
END:DAYLIGHT
BEGIN:STANDARD
TZOFFSETFROM:-0700
TZOFFSETTO:-0800
TZNAME:PST
DTSTART:20231105T090000
END:STANDARD
END:VTIMEZONE
BEGIN:VEVENT
DTSTART;TZID=America/Vancouver:20230302T100000
DTEND;TZID=America/Vancouver:20230302T113000
DTSTAMP:20260420T173301
CREATED:20230212T205225Z
LAST-MODIFIED:20230308T203017Z
UID:119003-1677751200-1677756600@aiproject.smartbodysmartmind.com
SUMMARY:Special Topic Q&A with Seth and Jen. Shock Trauma & Early/Developmental Trauma
DESCRIPTION:. \nWatch The Replay – Gallery. Password is ‘REWIRE’ \nAudio Only Version \nQuestions List \nTranscript \nEarly Trauma Tip Sheet \n  \n 
URL:https://aiproject.smartbodysmartmind.com/calendar/special-topic-qa-with-seth-irene-and-jen-shock-trauma-vs-early-developmental-trauma/
CATEGORIES:Curated Q&A Call
END:VEVENT
END:VCALENDAR