BEGIN:VCALENDAR
VERSION:2.0
PRODID:-//SmartBody SmartMind - ECPv5.12.3//NONSGML v1.0//EN
CALSCALE:GREGORIAN
METHOD:PUBLISH
X-WR-CALNAME:SmartBody SmartMind
X-ORIGINAL-URL:https://aiproject.smartbodysmartmind.com
X-WR-CALDESC:Events for SmartBody SmartMind
BEGIN:VTIMEZONE
TZID:America/Vancouver
BEGIN:DAYLIGHT
TZOFFSETFROM:-0800
TZOFFSETTO:-0700
TZNAME:PDT
DTSTART:20230312T100000
END:DAYLIGHT
BEGIN:STANDARD
TZOFFSETFROM:-0700
TZOFFSETTO:-0800
TZNAME:PST
DTSTART:20231105T090000
END:STANDARD
END:VTIMEZONE
BEGIN:VEVENT
DTSTART;TZID=America/Vancouver:20230509T110000
DTEND;TZID=America/Vancouver:20230509T123000
DTSTAMP:20260420T075233
CREATED:20230212T224331Z
LAST-MODIFIED:20230511T043250Z
UID:119057-1683630000-1683635400@aiproject.smartbodysmartmind.com
SUMMARY:Training Call #8 With Irene
DESCRIPTION:.\nTOPIC: Feldenkrasian Learning & Intentional Human Movement\n> CLICK HERE FOR THE FILL-IN-THE-BLANKS HANDOUT THAT GOES WITH THIS CALL <\n> CLICK HERE FOR THE FILL-IN-THE-BLANKS HANDOUT COMPLETED WITH ANSWERS <\nAll the calls will be recorded and uploaded right here within 24 hours. \nWatch The Replay – Irene. Password is ‘REWIRE’ \nWatch The Replay – Gallery. Password is ‘REWIRE’ \nAudio Only Version \nTranscript
URL:https://aiproject.smartbodysmartmind.com/calendar/training-call-8-with-irene-4/
CATEGORIES:Training Call
END:VEVENT
END:VCALENDAR